BEGIN:VCALENDAR
VERSION:2.0
PRODID:-//Seneca County Opportunity Center - ECPv6.7.0//NONSGML v1.0//EN
CALSCALE:GREGORIAN
METHOD:PUBLISH
X-WR-CALNAME:Seneca County Opportunity Center
X-ORIGINAL-URL:https://www.senecadd.org
X-WR-CALDESC:Events for Seneca County Opportunity Center
REFRESH-INTERVAL;VALUE=DURATION:PT1H
X-Robots-Tag:noindex
X-PUBLISHED-TTL:PT1H
BEGIN:VTIMEZONE
TZID:America/New_York
BEGIN:DAYLIGHT
TZOFFSETFROM:-0500
TZOFFSETTO:-0400
TZNAME:EDT
DTSTART:20250309T070000
END:DAYLIGHT
BEGIN:STANDARD
TZOFFSETFROM:-0400
TZOFFSETTO:-0500
TZNAME:EST
DTSTART:20251102T060000
END:STANDARD
END:VTIMEZONE
BEGIN:VEVENT
DTSTART;TZID=America/New_York:20250530T120000
DTEND;TZID=America/New_York:20250530T120000
DTSTAMP:20260421T133113
CREATED:20250501T170517Z
LAST-MODIFIED:20250507T185722Z
UID:10000125-1748606400-1748606400@www.senecadd.org
SUMMARY:Letting Lew Know
DESCRIPTION:All people who receive services and their families are welcome to attend!\n\nIf you need the Zoom link or phone number\, contact Hannah at hhawk@senecadd.org or 419-447-7521 ext. 1145
URL:https://www.senecadd.org/event/letting-lew-know/
CATEGORIES:Open to Everyone
END:VEVENT
END:VCALENDAR