BEGIN:VCALENDAR
VERSION:2.0
PRODID:-//Seneca County Opportunity Center - ECPv6.7.0//NONSGML v1.0//EN
CALSCALE:GREGORIAN
METHOD:PUBLISH
X-ORIGINAL-URL:https://www.senecadd.org
X-WR-CALDESC:Events for Seneca County Opportunity Center
REFRESH-INTERVAL;VALUE=DURATION:PT1H
X-Robots-Tag:noindex
X-PUBLISHED-TTL:PT1H
BEGIN:VTIMEZONE
TZID:America/New_York
BEGIN:DAYLIGHT
TZOFFSETFROM:-0500
TZOFFSETTO:-0400
TZNAME:EDT
DTSTART:20250309T070000
END:DAYLIGHT
BEGIN:STANDARD
TZOFFSETFROM:-0400
TZOFFSETTO:-0500
TZNAME:EST
DTSTART:20251102T060000
END:STANDARD
END:VTIMEZONE
BEGIN:VEVENT
DTSTART;VALUE=DATE:20250402
DTEND;VALUE=DATE:20250403
DTSTAMP:20260421T105943
CREATED:20250318T164344Z
LAST-MODIFIED:20250318T164344Z
UID:10000075-1743552000-1743638399@www.senecadd.org
SUMMARY:Wear Blue for World Autism Day
DESCRIPTION:Wear Blue on April 2nd to Celebrate World Autism Day!
URL:https://www.senecadd.org/event/wear-blue-for-world-autism-day/
CATEGORIES:Open to Everyone
END:VEVENT
END:VCALENDAR