BEGIN:VCALENDAR
VERSION:2.0
PRODID:-//Seneca County Opportunity Center - ECPv6.7.0//NONSGML v1.0//EN
CALSCALE:GREGORIAN
METHOD:PUBLISH
X-ORIGINAL-URL:https://www.senecadd.org
X-WR-CALDESC:Events for Seneca County Opportunity Center
REFRESH-INTERVAL;VALUE=DURATION:PT1H
X-Robots-Tag:noindex
X-PUBLISHED-TTL:PT1H
BEGIN:VTIMEZONE
TZID:America/New_York
BEGIN:DAYLIGHT
TZOFFSETFROM:-0500
TZOFFSETTO:-0400
TZNAME:EDT
DTSTART:20250309T070000
END:DAYLIGHT
BEGIN:STANDARD
TZOFFSETFROM:-0400
TZOFFSETTO:-0500
TZNAME:EST
DTSTART:20251102T060000
END:STANDARD
END:VTIMEZONE
BEGIN:VEVENT
DTSTART;TZID=America/New_York:20250313T163000
DTEND;TZID=America/New_York:20250313T193000
DTSTAMP:20260421T124804
CREATED:20250204T200830Z
LAST-MODIFIED:20250204T200830Z
UID:10000056-1741883400-1741894200@www.senecadd.org
SUMMARY:Bakery Bingo
DESCRIPTION:Bakery Bingo is a fun event for the whole family! Come out and have dinner\, and play bingo to win some delicious baked goods in the SCOC gym! There will be minimal supervision so we ask you to bring support if needed.\n\nWe will have our concession stand open\, doors open at 4:30pm. Bingo starts at 5:30pm on Thursday\, March 13th.\nAll proceeds from this evening will benefit the 2025 Unity Conference. Unity Council is a Self-Advocacy Group that plans a yearly conference. Unity is a chance for everyone to network\, & build upon their advocacy skills
URL:https://www.senecadd.org/event/bakery-bingo/
CATEGORIES:Open to Everyone
END:VEVENT
END:VCALENDAR