BEGIN:VCALENDAR
VERSION:2.0
PRODID:-//Seneca County Opportunity Center - ECPv6.7.0//NONSGML v1.0//EN
CALSCALE:GREGORIAN
METHOD:PUBLISH
X-ORIGINAL-URL:https://www.senecadd.org
X-WR-CALDESC:Events for Seneca County Opportunity Center
REFRESH-INTERVAL;VALUE=DURATION:PT1H
X-Robots-Tag:noindex
X-PUBLISHED-TTL:PT1H
BEGIN:VTIMEZONE
TZID:America/New_York
BEGIN:DAYLIGHT
TZOFFSETFROM:-0500
TZOFFSETTO:-0400
TZNAME:EDT
DTSTART:20250309T070000
END:DAYLIGHT
BEGIN:STANDARD
TZOFFSETFROM:-0400
TZOFFSETTO:-0500
TZNAME:EST
DTSTART:20251102T060000
END:STANDARD
END:VTIMEZONE
BEGIN:VEVENT
DTSTART;TZID=America/New_York:20250227T173000
DTEND;TZID=America/New_York:20250227T173000
DTSTAMP:20260421T124625
CREATED:20250128T174508Z
LAST-MODIFIED:20250204T202412Z
UID:10000049-1740677400-1740677400@www.senecadd.org
SUMMARY:Dinner and Dialogue
DESCRIPTION:Where: SCOC Gym (780 E. County Road 20\, Tiffin\, Ohio)\nWhen: Soup and Sandwich dinner starts at 5:30pm\, presentation at 6pm\n\nOpen to the public. RSVP by February 25th.\n\n\nSpeaker Dr. Melissa Tuttle\, a licensed psychologist at Nationwide Children’s Hospital-Toledo and a Clinical Assistant Professor at The Ohio State University\, will speak on the challenges of accessing diagnostic services due to few providers\, long travel distances\, and waitlists. Melissa is a Board Certified Behavior Analyst specializing in assessment and intervention with children and adolescents suspected of neurodevelopmental concerns.\n\n\nJoin us to:\n– Learn the signs and symptoms of autism\n– Know how to monitor your child’s development\n– Discover what to do if you have concerns\n– Get info on services at Nationwide Children’s Hospital\n\n 
URL:https://www.senecadd.org/event/dinner-and-dialogue/
CATEGORIES:Open to Everyone
ORGANIZER;CN="Joan Fredritz":MAILTO:jfredritz@senecadd.org
END:VEVENT
END:VCALENDAR